BEGIN:VCALENDAR
VERSION:2.0
PRODID:-//Godoy Cruz - ECPv4.5.8.1//NONSGML v1.0//EN
CALSCALE:GREGORIAN
METHOD:PUBLISH
X-WR-CALNAME:Godoy Cruz
X-ORIGINAL-URL:https://www.godoycruz.sisargentina.com
X-WR-CALDESC:Events for Godoy Cruz
BEGIN:VEVENT
DTSTART;TZID=UTC-3:20210331T190000
DTEND;TZID=UTC-3:20210331T190000
DTSTAMP:20260423T005539
CREATED:20210303T162524Z
LAST-MODIFIED:20210303T162524Z
UID:75395-1617217200-1617217200@www.godoycruz.sisargentina.com
SUMMARY:Cine del Recuerdo
DESCRIPTION:[vc_row][vc_column][vc_column_text]Cine del Recuerdo presenta: “Canuto Cañete\, conscripto del siete”\, con Carlitos Bala. \nEntrada gratuita. \nCupos limitados por protocolo.[/vc_column_text][/vc_column][/vc_row][vc_row][vc_column][vc_single_image image=»75377″ img_size=»full»][/vc_column][/vc_row] \n
URL:https://www.godoycruz.sisargentina.com/evento/cine-del-recuerdo-6/
LOCATION:Colón 27\, Godoy Cruz\, Mendoza\, 5501\, Argentina
ATTACH;FMTTYPE=image/jpeg:https://www.godoycruz.sisargentina.com/wp-content/uploads/2021/03/WhatsApp-Image-2021-02-24-at-10.26.24.jpeg
END:VEVENT
END:VCALENDAR