BEGIN:VCALENDAR
VERSION:2.0
PRODID:-//Godoy Cruz - ECPv4.5.8.1//NONSGML v1.0//EN
CALSCALE:GREGORIAN
METHOD:PUBLISH
X-WR-CALNAME:Godoy Cruz
X-ORIGINAL-URL:https://www.godoycruz.sisargentina.com
X-WR-CALDESC:Events for Godoy Cruz
BEGIN:VEVENT
DTSTART;TZID=UTC-3:20190713T160000
DTEND;TZID=UTC-3:20190713T180000
DTSTAMP:20260424T164006
CREATED:20190703T025422Z
LAST-MODIFIED:20190703T025422Z
UID:60498-1563033600-1563040800@www.godoycruz.sisargentina.com
SUMMARY:El Cielo de Nany\, la magia / El Roble Mágico
DESCRIPTION:[vc_row][vc_column][vc_column_text]Espectáculos teatrales para toda la familia. Funciones diarias. \nEntradas en venta en www.eventbrite.com.ar o en la boletería del teatro (Colón 27\, Godoy Cruz). \nNiños a partir de dos años pagan entrada. \nDirección Artística: Hugo Moreno. Libro y canciones originales: María Laura Fuertes. Producción ejecutiva: Federico Barzola. Producción general: Pablo Moreno. \n[/vc_column_text][/vc_column][/vc_row][vc_row][vc_column width=»1/2″][vc_column_text]16:00. El Cielo de Nany\, la magia (recomendada para niños de 0 a 6 años). \nValor de las entradas: $200\, $250 y $300.[/vc_column_text][/vc_column][vc_column width=»1/2″][vc_column_text]18:00. El Roble Mágico. 4º temporada (público en general). \nValor de las entradas: $200\, $250 y $300.[/vc_column_text][/vc_column][/vc_row][vc_row][vc_column width=»1/2″][vc_single_image image=»60476″ img_size=»full»][/vc_column][vc_column width=»1/2″][vc_single_image image=»60477″ img_size=»full»][/vc_column][/vc_row] \n
URL:https://www.godoycruz.sisargentina.com/evento/cielo-nany-la-magia-roble-magico-7/
LOCATION:Colón 27\, Godoy Cruz\, Mendoza\, 5501\, Argentina
ATTACH;FMTTYPE=image/jpeg:https://www.godoycruz.sisargentina.com/wp-content/uploads/2019/07/WhatsApp-Image-2019-06-26-at-12.53.58.jpeg
END:VEVENT
END:VCALENDAR