BEGIN:VCALENDAR
VERSION:2.0
PRODID:-//Godoy Cruz - ECPv4.5.8.1//NONSGML v1.0//EN
CALSCALE:GREGORIAN
METHOD:PUBLISH
X-WR-CALNAME:Godoy Cruz
X-ORIGINAL-URL:https://www.godoycruz.sisargentina.com
X-WR-CALDESC:Events for Godoy Cruz
BEGIN:VEVENT
DTSTART;TZID=UTC-3:20221119T213000
DTEND;TZID=UTC-3:20221119T213000
DTSTAMP:20260421T204938
CREATED:20221118T172941Z
LAST-MODIFIED:20221118T172941Z
UID:95532-1668893400-1668893400@www.godoycruz.sisargentina.com
SUMMARY:Ciclo de Teatro en la Casa de la Cultura y la Memoria
DESCRIPTION:[vc_row][vc_column][vc_column_text]Continúa este festival que abre sus puertas a diferentes propuestas escénicas y experiencias sensoriales. \nLas entradas se abonan en la taquilla. \nObra: “Escombros”\, de Pájaro Negro Compañía de Luces y Sombras.[/vc_column_text][/vc_column][/vc_row][vc_row][vc_column][vc_single_image image=»95533″ img_size=»full»][/vc_column][/vc_row] \n
URL:https://www.godoycruz.sisargentina.com/evento/ciclo-teatro-la-casa-la-cultura-la-memoria-2/
ATTACH;FMTTYPE=image/jpeg:https://www.godoycruz.sisargentina.com/wp-content/uploads/2022/11/315732745_453542183631363_3231692308799730198_n.jpg
END:VEVENT
END:VCALENDAR