BEGIN:VCALENDAR
VERSION:2.0
PRODID:-//Godoy Cruz - ECPv4.5.8.1//NONSGML v1.0//EN
CALSCALE:GREGORIAN
METHOD:PUBLISH
X-WR-CALNAME:Godoy Cruz
X-ORIGINAL-URL:https://www.godoycruz.sisargentina.com
X-WR-CALDESC:Events for Godoy Cruz
BEGIN:VEVENT
DTSTART;TZID=UTC-3:20180408T170000
DTEND;TZID=UTC-3:20180408T170000
DTSTAMP:20260425T163328
CREATED:20180406T164739Z
LAST-MODIFIED:20180406T164739Z
UID:48160-1523206800-1523206800@www.godoycruz.sisargentina.com
SUMMARY:Ciclo: Mediateca Infantil
DESCRIPTION:[vc_row][vc_column][vc_column_text]Presentación de Los Músilocos. \nEspectáculo musical con actuaciones\, historias y humor.[/vc_column_text][/vc_column][/vc_row][vc_row][vc_column][vc_single_image image=»48161″ img_size=»full»][/vc_column][/vc_row] \n
URL:https://www.godoycruz.sisargentina.com/evento/ciclo-mediateca-infantil/
LOCATION:Tomba 54\, Godoy Cruz\, Mendoza\, 5501\, Argentina
ATTACH;FMTTYPE=image/jpeg:https://www.godoycruz.sisargentina.com/wp-content/uploads/2018/04/Los-Musilocos.jpg
END:VEVENT
END:VCALENDAR