BEGIN:VCALENDAR
VERSION:2.0
PRODID:-//Godoy Cruz - ECPv4.5.8.1//NONSGML v1.0//EN
CALSCALE:GREGORIAN
METHOD:PUBLISH
X-WR-CALNAME:Godoy Cruz
X-ORIGINAL-URL:https://www.godoycruz.sisargentina.com
X-WR-CALDESC:Events for Godoy Cruz
BEGIN:VEVENT
DTSTART;TZID=UTC-3:20180429T170000
DTEND;TZID=UTC-3:20180429T170000
DTSTAMP:20260425T162533
CREATED:20180420T152914Z
LAST-MODIFIED:20180420T152914Z
UID:48739-1525021200-1525021200@www.godoycruz.sisargentina.com
SUMMARY:Ciclo: Mediateca Infantil
DESCRIPTION:[vc_row][vc_column][vc_column_text]Teatro de títeres \nFunción de la obra infantil  «Juan Santiago Panadero»\, del Elenco Kapaieie[/vc_column_text][/vc_column][/vc_row][vc_row][vc_column][vc_single_image image=»48736″ img_size=»full»][/vc_column][/vc_row][vc_row][vc_column][vc_video link=»https://youtu.be/4IEMerqlbRM»][/vc_column][/vc_row] \n
URL:https://www.godoycruz.sisargentina.com/evento/ciclo-mediateca-infantil-3/
LOCATION:Tomba 54\, Godoy Cruz\, Mendoza\, 5501\, Argentina
ATTACH;FMTTYPE=image/jpeg:https://www.godoycruz.sisargentina.com/wp-content/uploads/2018/04/individuales-abril-1MEDIATECA.jpg
END:VEVENT
END:VCALENDAR