BEGIN:VCALENDAR
VERSION:2.0
PRODID:-//Godoy Cruz - ECPv4.5.8.1//NONSGML v1.0//EN
CALSCALE:GREGORIAN
METHOD:PUBLISH
X-WR-CALNAME:Godoy Cruz
X-ORIGINAL-URL:https://www.godoycruz.sisargentina.com
X-WR-CALDESC:Events for Godoy Cruz
BEGIN:VEVENT
DTSTART;TZID=UTC-3:20230525T110000
DTEND;TZID=UTC-3:20230525T110000
DTSTAMP:20260421T095423
CREATED:20230519T164650Z
LAST-MODIFIED:20230519T164650Z
UID:100215-1685012400-1685012400@www.godoycruz.sisargentina.com
SUMMARY:Ciclo Gastronómico Chicharron - Edición Patria
DESCRIPTION:[vc_row][vc_column][vc_column_text]Celebramos el 25 de Mayo con platos típicos\, comidas a la llama\, pastelería regional\, danzas y espectáculos musicales en vivo. \nGrilla artística: Ballet Municipal de Godoy Cruz (Dir. Virginia Paes); Etnia Malambo; Dúo Nuevo Cuyo; La Rienda; Lucho Aberastain y Algarroba.com. \nEntrada gratuita.[/vc_column_text][/vc_column][/vc_row][vc_row][vc_column][vc_single_image image=»100216″ img_size=»full»][/vc_column][/vc_row] \n
URL:https://www.godoycruz.sisargentina.com/evento/ciclo-gastronomico-chicharron-edicion-patria/
ATTACH;FMTTYPE=image/jpeg:https://www.godoycruz.sisargentina.com/wp-content/uploads/2023/05/347601036_1303051113930384_3937601204910345006_n.jpg
END:VEVENT
END:VCALENDAR