BEGIN:VCALENDAR
VERSION:2.0
PRODID:-//Godoy Cruz - ECPv4.5.8.1//NONSGML v1.0//EN
CALSCALE:GREGORIAN
METHOD:PUBLISH
X-WR-CALNAME:Godoy Cruz
X-ORIGINAL-URL:https://www.godoycruz.sisargentina.com
X-WR-CALDESC:Events for Godoy Cruz
BEGIN:VEVENT
DTSTART;TZID=UTC-3:20230512T210000
DTEND;TZID=UTC-3:20230512T210000
DTSTAMP:20260421T113224
CREATED:20230505T135817Z
LAST-MODIFIED:20230505T135817Z
UID:99822-1683925200-1683925200@www.godoycruz.sisargentina.com
SUMMARY:Ciclo de Cine Pedro Almodóvar
DESCRIPTION:[vc_row][vc_column][vc_column_text]Se viene una selección con algunas de las mejores películas del aclamado director español. \nProyección: «Mujeres al borde de un ataque de nervios».(88 min. +16). \nSinopsis: Una actriz de televisión conoce a una variedad de personajes excéntricos en su viaje para descubrir por qué su amante la dejó tan abruptamente. \nEntrada gratuita.[/vc_column_text][/vc_column][/vc_row][vc_row][vc_column][vc_single_image image=»99823″ img_size=»full»][/vc_column][/vc_row] \n
URL:https://www.godoycruz.sisargentina.com/evento/ciclo-cine-pedro-almodovar/
ATTACH;FMTTYPE=image/jpeg:https://www.godoycruz.sisargentina.com/wp-content/uploads/2023/05/343911413_962124731908973_7241578224220607129_n.jpg
END:VEVENT
END:VCALENDAR