BEGIN:VCALENDAR
VERSION:2.0
PRODID:-//Godoy Cruz - ECPv4.5.8.1//NONSGML v1.0//EN
CALSCALE:GREGORIAN
METHOD:PUBLISH
X-WR-CALNAME:Godoy Cruz
X-ORIGINAL-URL:https://www.godoycruz.sisargentina.com
X-WR-CALDESC:Events for Godoy Cruz
BEGIN:VEVENT
DTSTART;TZID=UTC-3:20230920T210000
DTEND;TZID=UTC-3:20230920T210000
DTSTAMP:20260421T031513
CREATED:20230906T152136Z
LAST-MODIFIED:20230906T152136Z
UID:103183-1695243600-1695243600@www.godoycruz.sisargentina.com
SUMMARY:Ciclo de cine Christopher Nolan
DESCRIPTION:[vc_row][vc_column][vc_column_text]Una selección de largometrajes del director Christopher Nolan\, que plasman la creatividad de uno de los realizadores más aclamados de la actualidad. \n“Inception” (El origen). 2010. 148 min.+13. \nSinopsis: a un ladrón que roba secretos corporativos\, a través una tecnología que le permite entrar en el subconsciente\, se le da la tarea de implantar una idea en la mente del jefe de una gran empresa.[/vc_column_text][/vc_column][/vc_row][vc_row][vc_column][vc_single_image image=»103184″ img_size=»full»][/vc_column][/vc_row] \n
URL:https://www.godoycruz.sisargentina.com/evento/ciclo-cine-christopher-nolan/
LOCATION:Tomba 54\, Godoy Cruz\, Mendoza\, 5501\, Argentina
ATTACH;FMTTYPE=image/jpeg:https://www.godoycruz.sisargentina.com/wp-content/uploads/2023/09/375453997_626781412974105_7873753094057666522_n.jpg
END:VEVENT
END:VCALENDAR