BEGIN:VCALENDAR
VERSION:2.0
PRODID:-//Godoy Cruz - ECPv4.5.8.1//NONSGML v1.0//EN
CALSCALE:GREGORIAN
METHOD:PUBLISH
X-WR-CALNAME:Godoy Cruz
X-ORIGINAL-URL:https://www.godoycruz.sisargentina.com
X-WR-CALDESC:Events for Godoy Cruz
BEGIN:VEVENT
DTSTART;TZID=UTC-3:20230913T210000
DTEND;TZID=UTC-3:20230913T210000
DTSTAMP:20260421T031824
CREATED:20230906T155008Z
LAST-MODIFIED:20230906T155008Z
UID:103180-1694638800-1694638800@www.godoycruz.sisargentina.com
SUMMARY:Ciclo de cine Christopher Nolan
DESCRIPTION:[vc_row][vc_column][vc_column_text]Una selección de largometrajes del director Christopher Nolan\, que plasman la creatividad de uno de los realizadores más aclamados de la actualidad. \n“The Dark Knight” (Batman: El caballero de la noche). 2008. 152 min.+13 \nSinopsis: cuando el Joker emerge causando caos y violencia en Gotham City\, el caballero de la noche deberá aceptar una de las pruebas psicológicas y físicas más difíciles para poder luchar con su archienemigo.[/vc_column_text][/vc_column][/vc_row][vc_row][vc_column][vc_single_image image=»103181″ img_size=»full»][/vc_column][/vc_row] \n
URL:https://www.godoycruz.sisargentina.com/evento/ciclo-cine-christopher-nolan-3/
LOCATION:Tomba 54\, Godoy Cruz\, Mendoza\, 5501\, Argentina
ATTACH;FMTTYPE=image/jpeg:https://www.godoycruz.sisargentina.com/wp-content/uploads/2023/09/375451864_626781399640773_2778165365286532627_n.jpg
END:VEVENT
END:VCALENDAR