BEGIN:VCALENDAR
VERSION:2.0
PRODID:-//Godoy Cruz - ECPv4.5.8.1//NONSGML v1.0//EN
CALSCALE:GREGORIAN
METHOD:PUBLISH
X-WR-CALNAME:Godoy Cruz
X-ORIGINAL-URL:https://www.godoycruz.sisargentina.com
X-WR-CALDESC:Events for Godoy Cruz
BEGIN:VEVENT
DTSTART;TZID=UTC-3:20230927T210000
DTEND;TZID=UTC-3:20230927T210000
DTSTAMP:20260420T235134
CREATED:20230906T152807Z
LAST-MODIFIED:20230906T152807Z
UID:103186-1695848400-1695848400@www.godoycruz.sisargentina.com
SUMMARY:Ciclo de cine Christopher Nolan
DESCRIPTION:[vc_row][vc_column][vc_column_text]Una selección de largometrajes del director Christopher Nolan\, que plasman la creatividad de uno de los realizadores más aclamados de la actualidad. \n“Dunkirk” (Dunkerque). 2017. 106 min.+13. \nSinopsis: soldados aliados de Bélgica\, el Imperio británico y Francia están rodeados por el ejército alemán y son evacuados durante una feroz batalla en la Segunda Guerra Mundial.[/vc_column_text][/vc_column][/vc_row][vc_row][vc_column][vc_single_image image=»103187″ img_size=»full»][/vc_column][/vc_row] \n
URL:https://www.godoycruz.sisargentina.com/evento/ciclo-cine-christopher-nolan-2/
LOCATION:Tomba 54\, Godoy Cruz\, Mendoza\, 5501\, Argentina
ATTACH;FMTTYPE=image/jpeg:https://www.godoycruz.sisargentina.com/wp-content/uploads/2023/09/375461941_626781392974107_5938160729021923121_n.jpg
END:VEVENT
END:VCALENDAR