BEGIN:VCALENDAR
VERSION:2.0
PRODID:-//Godoy Cruz - ECPv4.5.8.1//NONSGML v1.0//EN
CALSCALE:GREGORIAN
METHOD:PUBLISH
X-WR-CALNAME:Godoy Cruz
X-ORIGINAL-URL:https://www.godoycruz.sisargentina.com
X-WR-CALDESC:Events for Godoy Cruz
BEGIN:VEVENT
DTSTART;TZID=UTC-3:20210116T220000
DTEND;TZID=UTC-3:20210116T220000
DTSTAMP:20260423T075515
CREATED:20210109T235244Z
LAST-MODIFIED:20210109T235244Z
UID:73817-1610834400-1610834400@www.godoycruz.sisargentina.com
SUMMARY:A chivatear se ha dicho
DESCRIPTION:[vc_row][vc_column][vc_column_text]Espectáculo humorístico y musical \nArtistas: Los Cumpas y el grupo Lunas Morenas \nLa función se realizará con los debidos protocolos sanitarios y de distanciamiento. \nLos cupos son limitados y se recomienda llegar por lo menos media hora antes del espectáculo. \nEntradas en venta en la boletería del Teatro Plaza (Colón 27\, Godoy Cruz). Horario de atención: de lunes a viernes\, de 9 a 13hs.[/vc_column_text][/vc_column][/vc_row][vc_row][vc_column][vc_single_image image=»73818″ img_size=»full»][/vc_column][/vc_row] \n
URL:https://www.godoycruz.sisargentina.com/evento/chivatear-se-ha-dicho/
LOCATION:Colón 27\, Godoy Cruz\, Mendoza\, 5501\, Argentina
ATTACH;FMTTYPE=image/jpeg:https://www.godoycruz.sisargentina.com/wp-content/uploads/2021/01/WhatsApp-Image-2021-01-08-at-13.30.45.jpeg
END:VEVENT
END:VCALENDAR