BEGIN:VCALENDAR
VERSION:2.0
PRODID:-//Godoy Cruz - ECPv4.5.8.1//NONSGML v1.0//EN
CALSCALE:GREGORIAN
METHOD:PUBLISH
X-WR-CALNAME:Godoy Cruz
X-ORIGINAL-URL:https://www.godoycruz.sisargentina.com
X-WR-CALDESC:Events for Godoy Cruz
BEGIN:VEVENT
DTSTART;TZID=UTC-3:20210723T210000
DTEND;TZID=UTC-3:20210723T210000
DTSTAMP:20260422T202848
CREATED:20210708T180230Z
LAST-MODIFIED:20210708T180230Z
UID:79574-1627074000-1627074000@www.godoycruz.sisargentina.com
SUMMARY:Charly García por Superhéroes
DESCRIPTION:[vc_row][vc_column][vc_column_text]La banda mendocina Superhéroes interpreta las canciones de Charly Garcia. \nFormato electroacústico. \nArtistas: Superhéroes. \nEntradas en venta:\nBoletería del Teatro Plaza (Colón 27\, Godoy Cruz). Horario de atención: de lunes a viernes\, de 8:30 a 14:00h.\nVía online: Bit.ly/EntradasSuperheroes. \nCupos limitados. Se ruega puntualidad y cumplir con el protocolo sanitario vigente.[/vc_column_text][/vc_column][/vc_row][vc_row][vc_column][vc_single_image image=»79575″ img_size=»full»][/vc_column][/vc_row] \n
URL:https://www.godoycruz.sisargentina.com/evento/charly-garcia-superheroes/
LOCATION:Colón 27\, Godoy Cruz\, Mendoza\, 5501\, Argentina
ATTACH;FMTTYPE=image/jpeg:https://www.godoycruz.sisargentina.com/wp-content/uploads/2021/07/WhatsApp-Image-2021-07-07-at-10.52.36.jpeg
END:VEVENT
END:VCALENDAR