BEGIN:VCALENDAR
VERSION:2.0
PRODID:-//Godoy Cruz - ECPv4.5.8.1//NONSGML v1.0//EN
CALSCALE:GREGORIAN
METHOD:PUBLISH
X-WR-CALNAME:Godoy Cruz
X-ORIGINAL-URL:https://www.godoycruz.sisargentina.com
X-WR-CALDESC:Events for Godoy Cruz
BEGIN:VEVENT
DTSTART;TZID=UTC-3:20240928T173000
DTEND;TZID=UTC-3:20240928T173000
DTSTAMP:20260421T104419
CREATED:20240926T145057Z
LAST-MODIFIED:20240926T145057Z
UID:115883-1727544600-1727544600@www.godoycruz.sisargentina.com
SUMMARY:Charla abierta sobre la ceremonia del té
DESCRIPTION:[vc_row][vc_column][vc_column_text]La especialista Malena Higashi brindará una charla sobre la ceremonia del té de Japón. \nEste evento se presenta como una oportunidad única para conocer en profundidad el “Chadō” o “el camino del té”. \nLa práctica del “Chadō” nos enseña a desarrollar la armonía\, el respeto\, la pureza y la tranquilidad. \nLos interesados en ser parte de esta experiencia podrán conocer las implicancias de este aprendizaje que se realiza de manera colectiva. \nTambién se proyectará el corto “DŌ: Arte y camino”\, dirigido por Evelyn Flores\, que cuenta con idea original y realización de Evelyn Flores\, Itatí Cizler Masala y Cecilia Mejía Britez. \nEntrada gratuita.[/vc_column_text][/vc_column][/vc_row][vc_row][vc_column][vc_single_image image=»115885″ img_size=»full»][/vc_column][/vc_row] \n
URL:https://www.godoycruz.sisargentina.com/evento/charla-abierta-la-ceremonia-del-te/
LOCATION:Tomba 54\, Godoy Cruz\, Mendoza\, 5501\, Argentina
ATTACH;FMTTYPE=image/jpeg:https://www.godoycruz.sisargentina.com/wp-content/uploads/2024/09/461159675_10233211472375067_8195076840704307034_n.jpg
END:VEVENT
END:VCALENDAR