BEGIN:VCALENDAR
VERSION:2.0
PRODID:-//Godoy Cruz - ECPv4.5.8.1//NONSGML v1.0//EN
CALSCALE:GREGORIAN
METHOD:PUBLISH
X-WR-CALNAME:Godoy Cruz
X-ORIGINAL-URL:https://www.godoycruz.sisargentina.com
X-WR-CALDESC:Events for Godoy Cruz
BEGIN:VEVENT
DTSTART;TZID=UTC-3:20210730T200000
DTEND;TZID=UTC-3:20210730T200000
DTSTAMP:20260422T184949
CREATED:20210721T163156Z
LAST-MODIFIED:20210721T163156Z
UID:79923-1627675200-1627675200@www.godoycruz.sisargentina.com
SUMMARY:Chantas
DESCRIPTION:[vc_row][vc_column][vc_column_text]Recital en vivo. \nPresentación oficial del disco «Un gesto». \nBanda: Chantas. \nEntradas en venta:\nBoletería del Teatro Plaza (Colón 27\, Godoy Cruz). Horario de atención: de lunes a viernes\, de 8:30 a 14:00h.\nVía online: https://bit.ly/EntradasChantas \nCupos limitados. Se ruega puntualidad y cumplir con el protocolo sanitario vigente. \n[/vc_column_text][/vc_column][/vc_row][vc_row][vc_column][vc_single_image image=»79924″ img_size=»full»][/vc_column][/vc_row] \n
URL:https://www.godoycruz.sisargentina.com/evento/chantas/
LOCATION:Colón 27\, Godoy Cruz\, Mendoza\, 5501\, Argentina
ATTACH;FMTTYPE=image/jpeg:https://www.godoycruz.sisargentina.com/wp-content/uploads/2021/07/WhatsApp-Image-2021-07-07-at-10.51.43.jpeg
END:VEVENT
END:VCALENDAR