BEGIN:VCALENDAR
VERSION:2.0
PRODID:-//Godoy Cruz - ECPv4.5.8.1//NONSGML v1.0//EN
CALSCALE:GREGORIAN
METHOD:PUBLISH
X-WR-CALNAME:Godoy Cruz
X-ORIGINAL-URL:https://www.godoycruz.sisargentina.com
X-WR-CALDESC:Events for Godoy Cruz
BEGIN:VEVENT
DTSTART;TZID=UTC-3:20181014T090000
DTEND;TZID=UTC-3:20181014T090000
DTSTAMP:20260425T102029
CREATED:20181011T145328Z
LAST-MODIFIED:20181011T145328Z
UID:53815-1539507600-1539507600@www.godoycruz.sisargentina.com
SUMMARY:Casting de la Fiesta de la Vendimia Departamental
DESCRIPTION:[vc_row][vc_column][vc_column_text]Cine Teatro Plaza (Calle Colón 27). Entrada libre y gratuita. \nActores/actrices \nInscripciones: de 9h a 11h / Audiciones: de 10h a 13h \nRequerimientos: \nFoto Carnet Actual \nFotocopia del DNI \nCurrículum Vitae de los últimos dos años que INCLUYA: \nDatos personales completos \nGrupo Sanguíneo[/vc_column_text][/vc_column][/vc_row][vc_row][vc_column][vc_single_image image=»53816″ img_size=»full»][/vc_column][/vc_row] \n
URL:https://www.godoycruz.sisargentina.com/evento/casting-la-fiesta-la-vendimia-departamental/
LOCATION:Colón 27\, Godoy Cruz\, Mendoza\, 5501\, Argentina
ATTACH;FMTTYPE=image/jpeg:https://www.godoycruz.sisargentina.com/wp-content/uploads/2018/10/CASTING-ACTORES.jpg
END:VEVENT
END:VCALENDAR