BEGIN:VCALENDAR
VERSION:2.0
PRODID:-//Godoy Cruz - ECPv4.5.8.1//NONSGML v1.0//EN
CALSCALE:GREGORIAN
METHOD:PUBLISH
X-WR-CALNAME:Godoy Cruz
X-ORIGINAL-URL:https://www.godoycruz.sisargentina.com
X-WR-CALDESC:Events for Godoy Cruz
BEGIN:VEVENT
DTSTART;TZID=UTC-3:20180512T220000
DTEND;TZID=UTC-3:20180512T220000
DTSTAMP:20260425T134730
CREATED:20180509T165029Z
LAST-MODIFIED:20180509T165029Z
UID:49242-1526162400-1526162400@www.godoycruz.sisargentina.com
SUMMARY:Carla Petrus en concierto
DESCRIPTION:[vc_row][vc_column][vc_column_text]La cantante\, compositora e intérprete presenta todo el repertorio de sus dos placas\, «Tiembla el mundo» y «Florece» y adelanta material de su nuevo disco «Ey… Soy yo».[/vc_column_text][/vc_column][/vc_row][vc_row][vc_column][vc_single_image image=»49243″ img_size=»full»][/vc_column][/vc_row] \n
URL:https://www.godoycruz.sisargentina.com/evento/carla-petrus-concierto/
LOCATION:Tomba 54\, Godoy Cruz\, Mendoza\, 5501\, Argentina
ATTACH;FMTTYPE=image/jpeg:https://www.godoycruz.sisargentina.com/wp-content/uploads/2018/05/web-MAYO-BM-12.jpg
END:VEVENT
END:VCALENDAR