BEGIN:VCALENDAR
VERSION:2.0
PRODID:-//Godoy Cruz - ECPv4.5.8.1//NONSGML v1.0//EN
CALSCALE:GREGORIAN
METHOD:PUBLISH
X-WR-CALNAME:Godoy Cruz
X-ORIGINAL-URL:https://www.godoycruz.sisargentina.com
X-WR-CALDESC:Events for Godoy Cruz
BEGIN:VEVENT
DTSTART;TZID=UTC-3:20190823T093000
DTEND;TZID=UTC-3:20190823T150000
DTSTAMP:20260424T090914
CREATED:20190820T172718Z
LAST-MODIFIED:20190820T172718Z
UID:61895-1566552600-1566572400@www.godoycruz.sisargentina.com
SUMMARY:Cantata “Los Hombres de San Martín”
DESCRIPTION:[vc_row][vc_column][vc_column_text]9:30 y 15:00. \nFunciones para escuelas. \nEntrada general: $40. \nInscripciones: 4133250 (lunes a viernes\, de 9:00 a 13:00).[/vc_column_text][/vc_column][/vc_row][vc_row][vc_column][vc_single_image image=»61896″ img_size=»full»][/vc_column][/vc_row] \n
URL:https://www.godoycruz.sisargentina.com/evento/cantata-los-hombres-san-martin/
LOCATION:Colón 27\, Godoy Cruz\, Mendoza\, 5501\, Argentina
ATTACH;FMTTYPE=image/jpeg:https://www.godoycruz.sisargentina.com/wp-content/uploads/2019/08/web-HDSM-escuelas.jpg
END:VEVENT
END:VCALENDAR