BEGIN:VCALENDAR
VERSION:2.0
PRODID:-//Godoy Cruz - ECPv4.5.8.1//NONSGML v1.0//EN
CALSCALE:GREGORIAN
METHOD:PUBLISH
X-WR-CALNAME:Godoy Cruz
X-ORIGINAL-URL:https://www.godoycruz.sisargentina.com
X-WR-CALDESC:Events for Godoy Cruz
BEGIN:VEVENT
DTSTART;TZID=UTC-3:20171201T213000
DTEND;TZID=UTC-3:20171201T213000
DTSTAMP:20260425T210455
CREATED:20171128T160133Z
LAST-MODIFIED:20171128T160133Z
UID:44576-1512163800-1512163800@www.godoycruz.sisargentina.com
SUMMARY:Por Cantar no más
DESCRIPTION:[vc_row][vc_column][vc_column_text]Gustavo Bugarin ofrece una selección de sonidos y música Latinoamericana.[/vc_column_text][/vc_column][/vc_row][vc_row][vc_column][vc_single_image image=»44579″ img_size=»full»][/vc_column][/vc_row] \n
URL:https://www.godoycruz.sisargentina.com/evento/cantar-no-mas/
LOCATION:Tomba 54\, Godoy Cruz\, Mendoza\, 5501\, Argentina
ATTACH;FMTTYPE=image/jpeg:https://www.godoycruz.sisargentina.com/wp-content/uploads/2017/11/12314042_542194462603503_8109414048693478839_n.jpg
END:VEVENT
END:VCALENDAR