BEGIN:VCALENDAR
VERSION:2.0
PRODID:-//Godoy Cruz - ECPv4.5.8.1//NONSGML v1.0//EN
CALSCALE:GREGORIAN
METHOD:PUBLISH
X-WR-CALNAME:Godoy Cruz
X-ORIGINAL-URL:https://www.godoycruz.sisargentina.com
X-WR-CALDESC:Events for Godoy Cruz
BEGIN:VEVENT
DTSTART;TZID=UTC-3:20200105T213000
DTEND;TZID=UTC-3:20200105T213000
DTSTAMP:20260424T001436
CREATED:20191223T171644Z
LAST-MODIFIED:20191223T171644Z
UID:65610-1578259800-1578259800@www.godoycruz.sisargentina.com
SUMMARY:Cabalgata de los Reyes Magos 2020
DESCRIPTION:[vc_row][vc_column][vc_column_text]Vuelve la ilusión en un impactante espectáculo dirigido por Fabián Quiroga titulado “Una Noche Inolvidable”. \nEntrada libre y gratuita.[/vc_column_text][/vc_column][/vc_row][vc_row][vc_column][vc_single_image image=»65611″ img_size=»full»][/vc_column][/vc_row] \n
URL:https://www.godoycruz.sisargentina.com/evento/cabalgata-los-reyes-magos-2020/
ATTACH;FMTTYPE=image/jpeg:https://www.godoycruz.sisargentina.com/wp-content/uploads/2019/12/reyes-grafica-PLACA.jpg
END:VEVENT
END:VCALENDAR