BEGIN:VCALENDAR
VERSION:2.0
PRODID:-//Godoy Cruz - ECPv4.5.8.1//NONSGML v1.0//EN
CALSCALE:GREGORIAN
METHOD:PUBLISH
X-WR-CALNAME:Godoy Cruz
X-ORIGINAL-URL:https://www.godoycruz.sisargentina.com
X-WR-CALDESC:Events for Godoy Cruz
BEGIN:VEVENT
DTSTART;TZID=UTC-3:20171214T210000
DTEND;TZID=UTC-3:20171214T210000
DTSTAMP:20260425T210852
CREATED:20171212T180241Z
LAST-MODIFIED:20171212T180241Z
UID:45125-1513285200-1513285200@www.godoycruz.sisargentina.com
SUMMARY:Bendición ecuménica de los frutos
DESCRIPTION:[vc_row][vc_column][vc_column_text]Participación de autoridades\, representantes de diferentes credos\, artistas y vecinos del departamento. \nLugar: Jardines del Honorable Concejo Deliberante (Perito Moreno y Rivadavia)[/vc_column_text][/vc_column][/vc_row][vc_row][vc_column][vc_single_image image=»45126″ img_size=»full»][/vc_column][/vc_row][vc_row][vc_column][/vc_column][/vc_row][vc_row][vc_column][vc_gmaps link=»#E-8_JTNDaWZyYW1lJTIwc3JjJTNEJTIyaHR0cHMlM0ElMkYlMkZ3d3cuZ29vZ2xlLmNvbSUyRm1hcHMlMkZlbWJlZCUzRnBiJTNEJTIxMW0xOCUyMTFtMTIlMjExbTMlMjExZDY2OTguMDUwNjYzNDU3Nzg0JTIxMmQtNjguODQ2MTA1NTA3NzAzMzQlMjEzZC0zMi45MjM5Mjg5NTY2OTk2NCUyMTJtMyUyMTFmMCUyMTJmMCUyMTNmMCUyMTNtMiUyMTFpMTAyNCUyMTJpNzY4JTIxNGYxMy4xJTIxM20zJTIxMW0yJTIxMXMweDk2N2UwYmQ4ODMzNTc0ZTklMjUzQTB4N2JiMmM5YmZjMzcwOTljNCUyMTJzTXVuaWNpcGFsaWRhZCUyQmRlJTJCR29kb3klMkJDcnV6JTIxNWUwJTIxM20yJTIxMXNlcy00MTklMjEyc2FyJTIxNHYxNTEzMTAxNTc4Njc3JTIyJTIwd2lkdGglM0QlMjI0MDAlMjIlMjBoZWlnaHQlM0QlMjIzMDAlMjIlMjBmcmFtZWJvcmRlciUzRCUyMjAlMjIlMjBzdHlsZSUzRCUyMmJvcmRlciUzQTAlMjIlMjBhbGxvd2Z1bGxzY3JlZW4lM0UlM0MlMkZpZnJhbWUlM0U=»][/vc_column][/vc_row] \n
URL:https://www.godoycruz.sisargentina.com/evento/bendicion-ecumenica-los-frutos/
ATTACH;FMTTYPE=image/jpeg:https://www.godoycruz.sisargentina.com/wp-content/uploads/2017/12/web-bendicion-de-los-frutos-1.jpg
END:VEVENT
END:VCALENDAR