BEGIN:VCALENDAR
VERSION:2.0
PRODID:-//Godoy Cruz - ECPv4.5.8.1//NONSGML v1.0//EN
CALSCALE:GREGORIAN
METHOD:PUBLISH
X-WR-CALNAME:Godoy Cruz
X-ORIGINAL-URL:https://www.godoycruz.sisargentina.com
X-WR-CALDESC:Events for Godoy Cruz
BEGIN:VEVENT
DTSTART;TZID=UTC-3:20210212T210000
DTEND;TZID=UTC-3:20210212T210000
DTSTAMP:20260423T062951
CREATED:20210204T164149Z
LAST-MODIFIED:20210204T164149Z
UID:74548-1613163600-1613163600@www.godoycruz.sisargentina.com
SUMMARY:Bendición Ecuménica de los Frutos 2021
DESCRIPTION:[vc_row][vc_column][vc_column_text]Acto en formato virtual. \nTrasmisión: redes sociales de la Municipalidad de Godoy Cruz. \nParticipación de representantes de diferentes credos religiosos. \nArtistas: Cristina Pérez (charango) y Carlos «Coco» Best (guitarra).[/vc_column_text][/vc_column][/vc_row][vc_row][vc_column][vc_single_image image=»74549″ img_size=»full»][/vc_column][/vc_row] \n
URL:https://www.godoycruz.sisargentina.com/evento/bendicion-ecumenica-los-frutos-2021/
ATTACH;FMTTYPE=image/jpeg:https://www.godoycruz.sisargentina.com/wp-content/uploads/2021/02/WhatsApp-Image-2021-02-02-at-14.02.23.jpeg
END:VEVENT
END:VCALENDAR