BEGIN:VCALENDAR
VERSION:2.0
PRODID:-//Godoy Cruz - ECPv4.5.8.1//NONSGML v1.0//EN
CALSCALE:GREGORIAN
METHOD:PUBLISH
X-WR-CALNAME:Godoy Cruz
X-ORIGINAL-URL:https://www.godoycruz.sisargentina.com
X-WR-CALDESC:Events for Godoy Cruz
BEGIN:VEVENT
DTSTART;TZID=UTC-3:20190510T220000
DTEND;TZID=UTC-3:20190510T220000
DTSTAMP:20260424T181126
CREATED:20190506T171159Z
LAST-MODIFIED:20190506T172248Z
UID:58928-1557525600-1557525600@www.godoycruz.sisargentina.com
SUMMARY:Belén Loüet Jazz Grupo
DESCRIPTION:[vc_row][vc_column][vc_column_text]Presentación del proyecto musical abocado a la realización de versiones de temas de jazz\, comedias musicales y música de película. \nEntrada general: $200. \nAnticipadas: a través de www.eventbrite.com.ar (capacidad limitada).[/vc_column_text][/vc_column][/vc_row][vc_row][vc_column][vc_single_image image=»58929″ img_size=»full»][/vc_column][/vc_row] \n
URL:https://www.godoycruz.sisargentina.com/evento/belen-louet-jazz-grupo-1/
LOCATION:Tomba 54\, Godoy Cruz\, Mendoza\, 5501\, Argentina
ATTACH;FMTTYPE=image/png:https://www.godoycruz.sisargentina.com/wp-content/uploads/2019/05/Mediateca-Instagram.png
END:VEVENT
END:VCALENDAR