BEGIN:VCALENDAR
VERSION:2.0
PRODID:-//Godoy Cruz - ECPv4.5.8.1//NONSGML v1.0//EN
CALSCALE:GREGORIAN
METHOD:PUBLISH
X-WR-CALNAME:Godoy Cruz
X-ORIGINAL-URL:https://www.godoycruz.sisargentina.com
X-WR-CALDESC:Events for Godoy Cruz
BEGIN:VEVENT
DTSTART;TZID=UTC-3:20230331T220000
DTEND;TZID=UTC-3:20230331T220000
DTSTAMP:20260421T130544
CREATED:20230303T151346Z
LAST-MODIFIED:20230303T151346Z
UID:98003-1680300000-1680300000@www.godoycruz.sisargentina.com
SUMMARY:#Basta de Amores de Mierda 2023
DESCRIPTION:[vc_row][vc_column][vc_column_text]El «Pela» Romero llega al Teatro Plaza con su unipersonal edición 2023. \nGonzalo Romero es uno de los autores emergentes más leídos de los últimos años\, con más de 250 mil libros vendidos entre Argentina\, Chile\, Uruguay\, México y España. \nEn cada función aparecen las tragedias que conlleva el amor y las relaciones tóxicas. \nEntradas en venta a través de la boletería \, de lunes a viernes de 9 a 14 horas o a través de https://bit.ly/EntradasPelaRomero23[/vc_column_text][/vc_column][/vc_row][vc_row][vc_column][vc_single_image image=»98004″ img_size=»full»][/vc_column][/vc_row] \n
URL:https://www.godoycruz.sisargentina.com/evento/basta-amores-mierda-2023/
LOCATION:Colón 27\, Godoy Cruz\, Mendoza\, 5501\, Argentina
ATTACH;FMTTYPE=image/jpeg:https://www.godoycruz.sisargentina.com/wp-content/uploads/2023/03/facebook_1677855902366_7037437722720063396.jpg
END:VEVENT
END:VCALENDAR