BEGIN:VCALENDAR
VERSION:2.0
PRODID:-//Godoy Cruz - ECPv4.5.8.1//NONSGML v1.0//EN
CALSCALE:GREGORIAN
METHOD:PUBLISH
X-WR-CALNAME:Godoy Cruz
X-ORIGINAL-URL:https://www.godoycruz.sisargentina.com
X-WR-CALDESC:Events for Godoy Cruz
BEGIN:VEVENT
DTSTART;TZID=UTC-3:20190901T190000
DTEND;TZID=UTC-3:20190901T190000
DTSTAMP:20260424T073617
CREATED:20190831T021905Z
LAST-MODIFIED:20190831T021905Z
UID:62321-1567364400-1567364400@www.godoycruz.sisargentina.com
SUMMARY:Barrio Le Parc se va de gira
DESCRIPTION:[vc_row][vc_column][vc_column_text]1º Presentación de los elencos de teatro del Programa Cultural Barrio Le Parc (niños y adultos). \nEntrada gratuita (limitada a la capacidad de la sala). \nElenco de Niños: “Te lo digo yo” (intervención sobre derechos del niño) y “Dorotea” (comedia colectiva). \nElenco de adultos: “Conociéndote” (Comedia colectiva).[/vc_column_text][/vc_column][/vc_row][vc_row][vc_column][vc_single_image image=»62322″ img_size=»full»][/vc_column][/vc_row] \n
URL:https://www.godoycruz.sisargentina.com/evento/barrio-le-parc-se-va-gira/
LOCATION:Tomba 54\, Godoy Cruz\, Mendoza\, 5501\, Argentina
ATTACH;FMTTYPE=image/jpeg:https://www.godoycruz.sisargentina.com/wp-content/uploads/2019/08/IMG-20190830-WA0002.jpg
END:VEVENT
END:VCALENDAR