BEGIN:VCALENDAR
VERSION:2.0
PRODID:-//Godoy Cruz - ECPv4.5.8.1//NONSGML v1.0//EN
CALSCALE:GREGORIAN
METHOD:PUBLISH
X-WR-CALNAME:Godoy Cruz
X-ORIGINAL-URL:https://www.godoycruz.sisargentina.com
X-WR-CALDESC:Events for Godoy Cruz
BEGIN:VEVENT
DTSTART;TZID=UTC-3:20190912T200000
DTEND;TZID=UTC-3:20190912T200000
DTSTAMP:20260424T060317
CREATED:20190909T171136Z
LAST-MODIFIED:20190909T171136Z
UID:62705-1568318400-1568318400@www.godoycruz.sisargentina.com
SUMMARY:Barrio Le Parc se va de gira
DESCRIPTION:[vc_row][vc_column][vc_column_text]Donde Vaya el Viento. Obra conceptual de danza folklore. \nParticipación del Ballet El Caudillo. \nPresentación del Taller de Folklore (grupo infantil). \nEntrada gratuita (limitada a la capacidad de la sala).[/vc_column_text][/vc_column][/vc_row][vc_row][vc_column][vc_single_image image=»62706″ img_size=»full»][/vc_column][/vc_row] \n
URL:https://www.godoycruz.sisargentina.com/evento/barrio-le-parc-se-va-gira-3/
LOCATION:Tomba 54\, Godoy Cruz\, Mendoza\, 5501\, Argentina
ATTACH;FMTTYPE=image/jpeg:https://www.godoycruz.sisargentina.com/wp-content/uploads/2019/09/WhatsApp-Image-2019-09-07-at-11.48.37.jpeg
END:VEVENT
END:VCALENDAR