BEGIN:VCALENDAR
VERSION:2.0
PRODID:-//Godoy Cruz - ECPv4.5.8.1//NONSGML v1.0//EN
CALSCALE:GREGORIAN
METHOD:PUBLISH
X-WR-CALNAME:Godoy Cruz
X-ORIGINAL-URL:https://www.godoycruz.sisargentina.com
X-WR-CALDESC:Events for Godoy Cruz
BEGIN:VEVENT
DTSTART;TZID=UTC-3:20220424T203000
DTEND;TZID=UTC-3:20220424T203000
DTSTAMP:20260422T061215
CREATED:20220406T134804Z
LAST-MODIFIED:20220406T134804Z
UID:88323-1650832200-1650832200@www.godoycruz.sisargentina.com
SUMMARY:Bajo Terapia
DESCRIPTION:[vc_row][vc_column][vc_column_text]Llega la exitosa comedia escrita por Matías del Federico. \nTres parejas acuden a un lugar en común\, convocados por su terapeuta. \nDirección: Guillermo Troncoso. \nEntradas en venta: \nBoletería del Teatro Plaza (Colón 27\, Godoy Cruz). Horario de atención: de lunes a sábado\, de 9 a 18h. \nVía online: https://bit.ly/BajoTerapiaEntradas \nSe ruega puntualidad y cumplir con el protocolo sanitario vigente.[/vc_column_text][/vc_column][/vc_row][vc_row][vc_column][vc_single_image image=»88324″ img_size=»full»][/vc_column][/vc_row] \n
URL:https://www.godoycruz.sisargentina.com/evento/bajo-terapia/
LOCATION:Colón 27\, Godoy Cruz\, Mendoza\, 5501\, Argentina
ATTACH;FMTTYPE=image/jpeg:https://www.godoycruz.sisargentina.com/wp-content/uploads/2022/04/WhatsApp-Image-2022-04-04-at-9.40.51-AM.jpeg
END:VEVENT
END:VCALENDAR