BEGIN:VCALENDAR
VERSION:2.0
PRODID:-//Godoy Cruz - ECPv4.5.8.1//NONSGML v1.0//EN
CALSCALE:GREGORIAN
METHOD:PUBLISH
X-WR-CALNAME:Godoy Cruz
X-ORIGINAL-URL:https://www.godoycruz.sisargentina.com
X-WR-CALDESC:Events for Godoy Cruz
BEGIN:VEVENT
DTSTART;TZID=UTC-3:20231117T220000
DTEND;TZID=UTC-3:20231117T220000
DTSTAMP:20260420T201234
CREATED:20231027T172058Z
LAST-MODIFIED:20231027T172058Z
UID:104675-1700258400-1700258400@www.godoycruz.sisargentina.com
SUMMARY:Axel presenta Tour 23
DESCRIPTION:[vc_row][vc_column][vc_column_text]El popular cantante llega a Mendoza con su nueva gira para compartir todos sus hits y su nuevo material. \nAxel es uno de los cantautores argentinos más reconocidos en Iberoamérica\, con siete álbumes editados y grandes canciones\, que lo posicionan como uno de los artistas más escuchados. \nComprá tus entradas online en https://bit.ly/EntradasExperienciaQueen2 o en la boletería del teatro (solo efectivo)\, de lunes a sábado de 9 a 18 hs.[/vc_column_text][/vc_column][/vc_row][vc_row][vc_column][vc_single_image image=»104679″ img_size=»full»][/vc_column][/vc_row] \n
URL:https://www.godoycruz.sisargentina.com/evento/axel-presenta-tour-23/
LOCATION:Colón 27\, Godoy Cruz\, Mendoza\, 5501\, Argentina
ATTACH;FMTTYPE=image/jpeg:https://www.godoycruz.sisargentina.com/wp-content/uploads/2023/10/393771535_663991762486319_6427166010779973187_n.jpg
END:VEVENT
END:VCALENDAR