BEGIN:VCALENDAR
VERSION:2.0
PRODID:-//Godoy Cruz - ECPv4.5.8.1//NONSGML v1.0//EN
CALSCALE:GREGORIAN
METHOD:PUBLISH
X-WR-CALNAME:Godoy Cruz
X-ORIGINAL-URL:https://www.godoycruz.sisargentina.com
X-WR-CALDESC:Events for Godoy Cruz
BEGIN:VEVENT
DTSTART;TZID=UTC-3:20240316T180000
DTEND;TZID=UTC-3:20240316T180000
DTSTAMP:20260420T132708
CREATED:20240308T170925Z
LAST-MODIFIED:20240308T170925Z
UID:108138-1710612000-1710612000@www.godoycruz.sisargentina.com
SUMMARY:Arizu
DESCRIPTION:[vc_row][vc_column][vc_column_text]Llega un ciclo de música electrónica al Espacio Arizu. \nActuarán destacados Djs que encenderán el escenario con sus sets. \nLine Up: Dj Muter (Buenos Aires)\, Luciano de Dominicis y Mily Lopez. \nConseguí tu entrada online en https://bit.ly/Arizusunset \nEvento para mayores de 21 años.[/vc_column_text][/vc_column][/vc_row][vc_row][vc_column][vc_single_image image=»108139″ img_size=»full»][/vc_column][/vc_row] \n
URL:https://www.godoycruz.sisargentina.com/evento/arizu/
ATTACH;FMTTYPE=image/jpeg:https://www.godoycruz.sisargentina.com/wp-content/uploads/2024/03/WhatsApp-Image-2024-03-07-at-12.46.09-PM.jpeg
END:VEVENT
END:VCALENDAR