BEGIN:VCALENDAR
VERSION:2.0
PRODID:-//Godoy Cruz - ECPv4.5.8.1//NONSGML v1.0//EN
CALSCALE:GREGORIAN
METHOD:PUBLISH
X-WR-CALNAME:Godoy Cruz
X-ORIGINAL-URL:https://www.godoycruz.sisargentina.com
X-WR-CALDESC:Events for Godoy Cruz
BEGIN:VEVENT
DTSTART;TZID=UTC-3:20230216T210000
DTEND;TZID=UTC-3:20230216T210000
DTSTAMP:20260421T142225
CREATED:20230216T163204Z
LAST-MODIFIED:20230216T163204Z
UID:97640-1676581200-1676581200@www.godoycruz.sisargentina.com
SUMMARY:Arizu Teatro
DESCRIPTION:[vc_row][vc_column][vc_column_text]Reconocidos intérpretes de la escena mendocina traen sus obras para disfrutar al aire libre. \nEspectáculo: «Amores de mi vida»\, con Daniel Quiroga. \nEspacio Arizu.[/vc_column_text][/vc_column][/vc_row][vc_row][vc_column][vc_single_image image=»97641″ img_size=»full»][/vc_column][/vc_row] \n
URL:https://www.godoycruz.sisargentina.com/evento/arizu-teatro/
ATTACH;FMTTYPE=image/jpeg:https://www.godoycruz.sisargentina.com/wp-content/uploads/2023/02/327154031_756670575611837_8057036080159034567_n.jpg
END:VEVENT
END:VCALENDAR