BEGIN:VCALENDAR
VERSION:2.0
PRODID:-//Godoy Cruz - ECPv4.5.8.1//NONSGML v1.0//EN
CALSCALE:GREGORIAN
METHOD:PUBLISH
X-WR-CALNAME:Godoy Cruz
X-ORIGINAL-URL:https://www.godoycruz.sisargentina.com
X-WR-CALDESC:Events for Godoy Cruz
BEGIN:VEVENT
DTSTART;TZID=UTC-3:20230225T210000
DTEND;TZID=UTC-3:20230225T210000
DTSTAMP:20260421T144022
CREATED:20230224T150306Z
LAST-MODIFIED:20230224T150306Z
UID:97824-1677358800-1677358800@www.godoycruz.sisargentina.com
SUMMARY:Arizu Jazz
DESCRIPTION:[vc_row][vc_column][vc_column_text]Llega un festival con talentosos artistas del género\, sonidos clásicos y modernos. \nSe recordará a dos grandes referentes como Eduardo Pinto y Valdo Delgado. \nArtistas: Ensamble El Dorado; Blend Jazz y Gastón Abdala Group. \nEspacio Arizu.[/vc_column_text][/vc_column][/vc_row][vc_row][vc_column][vc_single_image image=»97825″ img_size=»full»][/vc_column][/vc_row] \n
URL:https://www.godoycruz.sisargentina.com/evento/arizu-jazz/
ATTACH;FMTTYPE=image/jpeg:https://www.godoycruz.sisargentina.com/wp-content/uploads/2023/02/332205555_925757735093512_6958991380847136744_n.jpg
END:VEVENT
END:VCALENDAR