BEGIN:VCALENDAR
VERSION:2.0
PRODID:-//Godoy Cruz - ECPv4.5.8.1//NONSGML v1.0//EN
CALSCALE:GREGORIAN
METHOD:PUBLISH
X-WR-CALNAME:Godoy Cruz
X-ORIGINAL-URL:https://www.godoycruz.sisargentina.com
X-WR-CALDESC:Events for Godoy Cruz
BEGIN:VEVENT
DTSTART;TZID=UTC-3:20180522T100000
DTEND;TZID=UTC-3:20180522T100000
DTSTAMP:20260425T134444
CREATED:20180508T164449Z
LAST-MODIFIED:20180508T164449Z
UID:49210-1526983200-1526983200@www.godoycruz.sisargentina.com
SUMMARY:“Argentinitos” Espectáculo Interactivo
DESCRIPTION:[vc_row][vc_column][vc_column_text]Actividad para escuelas. \nConcierto didáctico cuyo objetivo es acercar a los jóvenes a nuestras raíces musicales. \nValor de las entradas: $10. Inscripciones para instituciones educativas: 4133250\, de lunes a viernes de 9:00 a 14:00. Cupos limitados.[/vc_column_text][/vc_column][/vc_row][vc_row][vc_column][vc_single_image image=»49211″ img_size=»full»][/vc_column][/vc_row] \n
URL:https://www.godoycruz.sisargentina.com/evento/argentinitos-espectaculo-interactivo/
LOCATION:Colón 27\, Godoy Cruz\, Mendoza\, 5501\, Argentina
ATTACH;FMTTYPE=image/jpeg:https://www.godoycruz.sisargentina.com/wp-content/uploads/2018/05/Argentinitos-web.jpg
END:VEVENT
END:VCALENDAR