BEGIN:VCALENDAR
VERSION:2.0
PRODID:-//Godoy Cruz - ECPv4.5.8.1//NONSGML v1.0//EN
CALSCALE:GREGORIAN
METHOD:PUBLISH
X-WR-CALNAME:Godoy Cruz
X-ORIGINAL-URL:https://www.godoycruz.sisargentina.com
X-WR-CALDESC:Events for Godoy Cruz
BEGIN:VEVENT
DTSTART;TZID=UTC-3:20230506T213000
DTEND;TZID=UTC-3:20230506T213000
DTSTAMP:20260421T100740
CREATED:20230428T145727Z
LAST-MODIFIED:20230428T145727Z
UID:99601-1683408600-1683408600@www.godoycruz.sisargentina.com
SUMMARY:Apertura XX Edición del Festival Mendoza Flamenca
DESCRIPTION:[vc_row][vc_column][vc_column_text]Llega este clásico encuentro con toda la fuerza del baile y el canto de raíz española. \nDirección general: Pablo Garay. \nElenco de La Herrería Flamenca. \nMúsicos: \nCante: Maxi Vergara y Julia Lavayén/ Guitarra: Gustavo Faia/ Vientos: Mix Arjona/ Percusión: Santiago Gil. \nAcademias invitadas: Instituto Galicia (Dir. Sol Melaragno) y Estudio de Arte Flamenco “Virgen Del Rocío” (Prof. Mandy Acevedo). \nLas entradas se pueden obtener vía online en  https://bit.ly/EntradasMendozaFlamenca o en la boletería del teatro\, de lunes a sábado de 9 a 18hs.[/vc_column_text][/vc_column][/vc_row][vc_row][vc_column][vc_single_image image=»99602″ img_size=»full»][/vc_column][/vc_row] \n
URL:https://www.godoycruz.sisargentina.com/evento/apertura-xx-edicion-del-festival-mendoza-flamenca/
LOCATION:Colón 27\, Godoy Cruz\, Mendoza\, 5501\, Argentina
ATTACH;FMTTYPE=image/jpeg:https://www.godoycruz.sisargentina.com/wp-content/uploads/2023/04/342981944_1946633352359247_1138290815538706998_n.jpg
END:VEVENT
END:VCALENDAR