BEGIN:VCALENDAR
VERSION:2.0
PRODID:-//Godoy Cruz - ECPv4.5.8.1//NONSGML v1.0//EN
CALSCALE:GREGORIAN
METHOD:PUBLISH
X-WR-CALNAME:Godoy Cruz
X-ORIGINAL-URL:https://www.godoycruz.sisargentina.com
X-WR-CALDESC:Events for Godoy Cruz
BEGIN:VEVENT
DTSTART;TZID=UTC-3:20180423T090000
DTEND;TZID=UTC-3:20180423T090000
DTSTAMP:20260425T162816
CREATED:20180420T144319Z
LAST-MODIFIED:20180420T144319Z
UID:48728-1524474000-1524474000@www.godoycruz.sisargentina.com
SUMMARY:Apertura del XVI Encuentro Internacional de Narración Oral
DESCRIPTION:[vc_row][vc_column][vc_column_text]Del lunes 23 al sábado 28 se realiza el XVI Encuentro Internacional de Narración Oral “Voces para construir esperanza”\, cuya jornada inaugural coincide con el Día Internacional del Libro. \nCoordinación artística: Sergio Martínez. \nArtistas: Drika Nunes (Brasil); “Castora” (Chile); Gustavo Pérez (Colombia); Elena Vindel (Honduras); Maira Do Mundo (Brasil); Santiago Arraya (Córdoba). Desde Mendoza: Nicolás Nime; Pedro Contreras; Lara Garro y Diego Flores. \nLugares: Escuelas primarias y secundarias del municipio\, Complejo Penitenciario Almafuerte (Cacheuta)\, Estación de los Niños y Niñas (Parque Benegas)\, Cantina Andes Talleres (Castellani y Belgrano) y más.[/vc_column_text][/vc_column][/vc_row][vc_row][vc_column][vc_single_image image=»48729″ img_size=»full»][/vc_column][/vc_row] \n
URL:https://www.godoycruz.sisargentina.com/evento/apertura-del-xvi-encuentro-internacional-narracion-oral/
ATTACH;FMTTYPE=image/jpeg:https://www.godoycruz.sisargentina.com/wp-content/uploads/2018/04/web-encuentro-Narracion-Oral2-1.jpg
END:VEVENT
END:VCALENDAR