BEGIN:VCALENDAR
VERSION:2.0
PRODID:-//Godoy Cruz - ECPv4.5.8.1//NONSGML v1.0//EN
CALSCALE:GREGORIAN
METHOD:PUBLISH
X-WR-CALNAME:Godoy Cruz
X-ORIGINAL-URL:https://www.godoycruz.sisargentina.com
X-WR-CALDESC:Events for Godoy Cruz
BEGIN:VEVENT
DTSTART;TZID=UTC-3:20180626T100000
DTEND;TZID=UTC-3:20180626T100000
DTSTAMP:20260425T113402
CREATED:20180622T013638Z
LAST-MODIFIED:20180622T013638Z
UID:50496-1530007200-1530007200@www.godoycruz.sisargentina.com
SUMMARY:Apertura del V Encuentro Internacional de Títeres Javier Villafañe
DESCRIPTION:[vc_row][vc_column][vc_column_text]Función para escuelas de Mendoza.  \nObra: “Sapo en Buenos Aires”.  \nElenco: La Ópera Encandilada (La Plata). \nEntrada general: $20. \nInformes e inscripciones: 4133250/ 261 6586 820 (Laura) / 261 5761 211 (Cristina).[/vc_column_text][/vc_column][/vc_row][vc_row][vc_column][vc_single_image image=»50497″ img_size=»full»][/vc_column][/vc_row] \n
URL:https://www.godoycruz.sisargentina.com/evento/apertura-del-v-encuentro-internacional-titeres-javier-villafane/
LOCATION:Colón 27\, Godoy Cruz\, Mendoza\, 5501\, Argentina
ATTACH;FMTTYPE=image/jpeg:https://www.godoycruz.sisargentina.com/wp-content/uploads/2018/06/Javier-Villafañe.jpg
END:VEVENT
END:VCALENDAR