BEGIN:VCALENDAR
VERSION:2.0
PRODID:-//Godoy Cruz - ECPv4.5.8.1//NONSGML v1.0//EN
CALSCALE:GREGORIAN
METHOD:PUBLISH
X-WR-CALNAME:Godoy Cruz
X-ORIGINAL-URL:https://www.godoycruz.sisargentina.com
X-WR-CALDESC:Events for Godoy Cruz
BEGIN:VEVENT
DTSTART;TZID=UTC-3:20220303T200000
DTEND;TZID=UTC-3:20220303T200000
DTSTAMP:20260422T080229
CREATED:20220302T170546Z
LAST-MODIFIED:20220302T170546Z
UID:87136-1646337600-1646337600@www.godoycruz.sisargentina.com
SUMMARY:Aniversario de Chakaymanta
DESCRIPTION:[vc_row][vc_column][vc_column_text]El histórico Ballet mendocino creado en 1972 cumple 50 años. \nDirección: Sergio Magallanes. \nEntrada gratuita. \nSe ruega puntualidad y cumplir con el protocolo sanitario vigente.[/vc_column_text][/vc_column][/vc_row][vc_row][vc_column][vc_single_image image=»87139″ img_size=»full»][/vc_column][/vc_row] \n
URL:https://www.godoycruz.sisargentina.com/evento/aniversario-de-chakaymanta/
LOCATION:Colón 27\, Godoy Cruz\, Mendoza\, 5501\, Argentina
ATTACH;FMTTYPE=image/jpeg:https://www.godoycruz.sisargentina.com/wp-content/uploads/2022/03/274681281_501965774616290_4648616167825979625_n.jpg
END:VEVENT
END:VCALENDAR