BEGIN:VCALENDAR
VERSION:2.0
PRODID:-//Godoy Cruz - ECPv4.5.8.1//NONSGML v1.0//EN
CALSCALE:GREGORIAN
METHOD:PUBLISH
X-WR-CALNAME:Godoy Cruz
X-ORIGINAL-URL:https://www.godoycruz.sisargentina.com
X-WR-CALDESC:Events for Godoy Cruz
BEGIN:VEVENT
DTSTART;TZID=UTC-3:20231008T200000
DTEND;TZID=UTC-3:20231008T200000
DTSTAMP:20260421T014032
CREATED:20230921T164911Z
LAST-MODIFIED:20230921T164911Z
UID:103623-1696795200-1696795200@www.godoycruz.sisargentina.com
SUMMARY:Alejandro Lerner - Gira Grandes Éxitos 2023
DESCRIPTION:[vc_row][vc_column][vc_column_text]En el marco de su gira nacional Alejandro Lerner ofrece sus grandes clásicos en un recital imperdible. \nEl aclamado artista realizará un viaje a través de aquellos temas que se convirtieron en himnos y lo consagraron como uno de los cantautores más renombrados y premiados de Latinoamérica. \nComprá tus entradas online en https://bit.ly/EntradasAlejandroLerner o en la boletería del teatro (solo efectivo)\, de lunes a sábado de 9 a 18 hs.[/vc_column_text][/vc_column][/vc_row][vc_row][vc_column][vc_single_image image=»103624″ img_size=»full»][/vc_column][/vc_row] \n
URL:https://www.godoycruz.sisargentina.com/evento/alejandro-lerner-gira-grandes-exitos-2023/
LOCATION:Colón 27\, Godoy Cruz\, Mendoza\, 5501\, Argentina
ATTACH;FMTTYPE=image/jpeg:https://www.godoycruz.sisargentina.com/wp-content/uploads/2023/09/8-DE-OCTUBRE-GODOY-CRUZ-AL-FEED-2.jpg
END:VEVENT
END:VCALENDAR