BEGIN:VCALENDAR
VERSION:2.0
PRODID:-//Godoy Cruz - ECPv4.5.8.1//NONSGML v1.0//EN
CALSCALE:GREGORIAN
METHOD:PUBLISH
X-WR-CALNAME:Godoy Cruz
X-ORIGINAL-URL:https://www.godoycruz.sisargentina.com
X-WR-CALDESC:Events for Godoy Cruz
BEGIN:VEVENT
DTSTART;TZID=UTC-3:20231006T210000
DTEND;TZID=UTC-3:20231006T210000
DTSTAMP:20260420T234216
CREATED:20231005T163226Z
LAST-MODIFIED:20231005T163226Z
UID:104018-1696626000-1696626000@www.godoycruz.sisargentina.com
SUMMARY:Agenda Zero en Vivo
DESCRIPTION:[vc_row][vc_column][vc_column_text]Se viene la tercera fecha de la Agenda Zero en Vivo\, con recitales imperdibles de artistas mendocinos. \nPresentación de Leandro Lacerna en formato Full Band y el proyecto musical «El loco del bosque». \nEntradas anticipadas: $1500\, al alias revistazero.uala (una vez hecha la transferencia quedas automáticamente en la lista). \nTaquilla: $1800.[/vc_column_text][/vc_column][/vc_row][vc_row][vc_column][vc_single_image image=»104019″ img_size=»full»][/vc_column][/vc_row] \n
URL:https://www.godoycruz.sisargentina.com/evento/agenda-zero-vivo-3/
LOCATION:Tomba 54\, Godoy Cruz\, Mendoza\, 5501\, Argentina
ATTACH;FMTTYPE=image/jpeg:https://www.godoycruz.sisargentina.com/wp-content/uploads/2023/10/385910200_641987104786869_2076263803937018921_n.jpg
END:VEVENT
END:VCALENDAR