BEGIN:VCALENDAR
VERSION:2.0
PRODID:-//Godoy Cruz - ECPv4.5.8.1//NONSGML v1.0//EN
CALSCALE:GREGORIAN
METHOD:PUBLISH
X-WR-CALNAME:Godoy Cruz
X-ORIGINAL-URL:https://www.godoycruz.sisargentina.com
X-WR-CALDESC:Events for Godoy Cruz
BEGIN:VEVENT
DTSTART;TZID=UTC-3:20230901T210000
DTEND;TZID=UTC-3:20230901T210000
DTSTAMP:20260421T031706
CREATED:20230829T154234Z
LAST-MODIFIED:20230829T154234Z
UID:102965-1693602000-1693602000@www.godoycruz.sisargentina.com
SUMMARY:Agenda Zero en Vivo
DESCRIPTION:[vc_row][vc_column][vc_column_text]Recitales en vivo de «Verónica Lía» (set acústico) y Paula Flores. Feria y muestras. \nValor de las entradas:$1500 \nCompra anticipada: transferencia (alias: revistazero.uala). \nVenta en la taquilla del lugar\, la misma noche del show.[/vc_column_text][/vc_column][/vc_row][vc_row][vc_column][vc_single_image image=»102967″ img_size=»full»][/vc_column][/vc_row] \n
URL:https://www.godoycruz.sisargentina.com/evento/agenda-zero-vivo-2/
LOCATION:Tomba 54\, Godoy Cruz\, Mendoza\, 5501\, Argentina
ATTACH;FMTTYPE=image/jpeg:https://www.godoycruz.sisargentina.com/wp-content/uploads/2023/08/369789169_620739093578337_6914964405592761714_n.jpg
END:VEVENT
END:VCALENDAR