BEGIN:VCALENDAR
VERSION:2.0
PRODID:-//Godoy Cruz - ECPv4.5.8.1//NONSGML v1.0//EN
CALSCALE:GREGORIAN
METHOD:PUBLISH
X-WR-CALNAME:Godoy Cruz
X-ORIGINAL-URL:https://www.godoycruz.sisargentina.com
X-WR-CALDESC:Events for Godoy Cruz
BEGIN:VEVENT
DTSTART;TZID=UTC-3:20190629T200000
DTEND;TZID=UTC-3:20190629T200000
DTSTAMP:20260424T145706
CREATED:20190611T150751Z
LAST-MODIFIED:20190611T150751Z
UID:59995-1561838400-1561838400@www.godoycruz.sisargentina.com
SUMMARY:Adexe & Nau
DESCRIPTION:[vc_row][vc_column][vc_column_text]Concierto del dúo musical en su nueva gira Indiscutibles World Tour. \nVenta de entradas en la boletería del Teatro Plaza y en www.tuentrada.com \n[/vc_column_text][/vc_column][/vc_row][vc_row][vc_column][vc_single_image image=»59996″ img_size=»full»][/vc_column][/vc_row] \n
URL:https://www.godoycruz.sisargentina.com/evento/adexe-nau/
LOCATION:Colón 27\, Godoy Cruz\, Mendoza\, 5501\, Argentina
ATTACH;FMTTYPE=image/jpeg:https://www.godoycruz.sisargentina.com/wp-content/uploads/2019/06/WhatsApp-Image-2019-06-10-at-11.55.21.jpeg
END:VEVENT
END:VCALENDAR