BEGIN:VCALENDAR
VERSION:2.0
PRODID:-//Godoy Cruz - ECPv4.5.8.1//NONSGML v1.0//EN
CALSCALE:GREGORIAN
METHOD:PUBLISH
X-WR-CALNAME:Godoy Cruz
X-ORIGINAL-URL:https://www.godoycruz.sisargentina.com
X-WR-CALDESC:Events for Godoy Cruz
BEGIN:VEVENT
DTSTART;TZID=UTC-3:20240414T150000
DTEND;TZID=UTC-3:20240414T220000
DTSTAMP:20260420T114422
CREATED:20240412T172705Z
LAST-MODIFIED:20240412T172705Z
UID:108809-1713106800-1713132000@www.godoycruz.sisargentina.com
SUMMARY:8º Encuentro de Hobbistas y Coleccionistas
DESCRIPTION:[vc_row][vc_column][vc_column_text]Te invitamos a ser parte de esta mega exposición de numerosos clubes de coleccionistas y aficionados en un paseo para toda la familia. \nTambién habrá Foodtrucks y música en vivo con Cassette Club del Retro. \nPodés encontrarte objetos relacionados al modelismo; sellos postales; monedas y medallas; autos y todo tipo de vehículos de distintas escalas y épocas; Comics\, figuras de acción\, Legos y Funkos\, entre otros. \nEntrada libre y gratuita.[/vc_column_text][/vc_column][/vc_row][vc_row][vc_column][vc_single_image image=»108804″ img_size=»full»][/vc_column][/vc_row] \n
URL:https://www.godoycruz.sisargentina.com/evento/8o-encuentro-hobbistas-coleccionistas-2/
ATTACH;FMTTYPE=image/jpeg:https://www.godoycruz.sisargentina.com/wp-content/uploads/2024/04/434968119_747438594241719_5536105872831724621_n.jpg
END:VEVENT
END:VCALENDAR