BEGIN:VCALENDAR
VERSION:2.0
PRODID:-//Godoy Cruz - ECPv4.5.8.1//NONSGML v1.0//EN
CALSCALE:GREGORIAN
METHOD:PUBLISH
X-WR-CALNAME:Godoy Cruz
X-ORIGINAL-URL:https://www.godoycruz.sisargentina.com
X-WR-CALDESC:Events for Godoy Cruz
BEGIN:VEVENT
DTSTART;TZID=UTC-3:20231016T200000
DTEND;TZID=UTC-3:20231016T200000
DTSTAMP:20260421T011656
CREATED:20231012T144321Z
LAST-MODIFIED:20231012T144321Z
UID:104292-1697486400-1697486400@www.godoycruz.sisargentina.com
SUMMARY:7° Festival CONTAR PARA QUE OCURRA
DESCRIPTION:[vc_row][vc_column][vc_column_text]Diversas expresiones artísticas se llevarán a cabo en nuestra provincia con el desarrollo de este festival. \nEl objetivo es promover y difundir la obra de la siempre recordada escritora Liliana Bodoc\, con diferentes puestas en escena que abarcan marionetas\, narración\, títeres y obras de teatro. \nEntrada gratuita (por orden de llegada). \nObra: “Bruno”. Elenco Giraluna (Mendoza). \n[/vc_column_text][/vc_column][/vc_row][vc_row][vc_column][vc_single_image image=»104293″ img_size=»full»][/vc_column][/vc_row] \n
URL:https://www.godoycruz.sisargentina.com/evento/7-festival-contar-ocurra-4/
LOCATION:Tomba 54\, Godoy Cruz\, Mendoza\, 5501\, Argentina
ATTACH;FMTTYPE=image/jpeg:https://www.godoycruz.sisargentina.com/wp-content/uploads/2023/10/387020069_645651397753773_6131718358264069125_n.jpg
END:VEVENT
END:VCALENDAR