BEGIN:VCALENDAR
VERSION:2.0
PRODID:-//Godoy Cruz - ECPv4.5.8.1//NONSGML v1.0//EN
CALSCALE:GREGORIAN
METHOD:PUBLISH
X-WR-CALNAME:Godoy Cruz
X-ORIGINAL-URL:https://www.godoycruz.sisargentina.com
X-WR-CALDESC:Events for Godoy Cruz
BEGIN:VEVENT
DTSTART;TZID=UTC-3:20220721T200000
DTEND;TZID=UTC-3:20220721T200000
DTSTAMP:20260422T013334
CREATED:20220718T011601Z
LAST-MODIFIED:20220718T011601Z
UID:91184-1658433600-1658433600@www.godoycruz.sisargentina.com
SUMMARY:6ta edición de Rastafari Day en el Cine Teatro Plaza
DESCRIPTION:[vc_row][vc_column][vc_column_text] \n\nLlega la 6° Edición del Rastafari Day que recibirá las siguientes bandas\n\n\n The Blessed\n Mamá Ordan\n Gaspar Om\n CuyoMan\n La Tuff Gong\n\n[/vc_column_text][/vc_column][/vc_row][vc_row][vc_column][vc_single_image image=»91185″ img_size=»full»][/vc_column][/vc_row] \n
URL:https://www.godoycruz.sisargentina.com/evento/6ta-edicion-rastafari-day-cine-teatro-plaza/
LOCATION:Colon 27\, Godoy Cruz\, Mendoza\, Argentina
ATTACH;FMTTYPE=image/jpeg:https://www.godoycruz.sisargentina.com/wp-content/uploads/2022/07/RASTAFARIDAY.jpg
END:VEVENT
END:VCALENDAR