BEGIN:VCALENDAR
VERSION:2.0
PRODID:-//Godoy Cruz - ECPv4.5.8.1//NONSGML v1.0//EN
CALSCALE:GREGORIAN
METHOD:PUBLISH
X-WR-CALNAME:Godoy Cruz
X-ORIGINAL-URL:https://www.godoycruz.sisargentina.com
X-WR-CALDESC:Events for Godoy Cruz
BEGIN:VEVENT
DTSTART;TZID=UTC-3:20190622T210000
DTEND;TZID=UTC-3:20190622T210000
DTSTAMP:20260424T150436
CREATED:20190610T155414Z
LAST-MODIFIED:20190610T155414Z
UID:59981-1561237200-1561237200@www.godoycruz.sisargentina.com
SUMMARY:6º Semana de las Letras
DESCRIPTION:[vc_row][vc_column width=»1/2″][vc_column_text]21:00. Obra de teatro: “Tres viejos mares”\, de Arístides Vargas. \nActuación de Li Di Marco\, Mario Ruarte y Chicho Vargas. \nDirección y puesta en escena: Rubén González Mayo.[/vc_column_text][/vc_column][vc_column width=»1/2″][vc_single_image image=»59982″ img_size=»full»][/vc_column][/vc_row] \n
URL:https://www.godoycruz.sisargentina.com/evento/6o-semana-las-letras-4/
LOCATION:Tomba 54\, Godoy Cruz\, Mendoza\, 5501\, Argentina
ATTACH;FMTTYPE=image/jpeg:https://www.godoycruz.sisargentina.com/wp-content/uploads/2019/06/WhatsApp-Image-2019-06-07-at-11.51.26.jpeg
END:VEVENT
END:VCALENDAR