BEGIN:VCALENDAR
VERSION:2.0
PRODID:-//Godoy Cruz - ECPv4.5.8.1//NONSGML v1.0//EN
CALSCALE:GREGORIAN
METHOD:PUBLISH
X-WR-CALNAME:Godoy Cruz
X-ORIGINAL-URL:https://www.godoycruz.sisargentina.com
X-WR-CALDESC:Events for Godoy Cruz
BEGIN:VEVENT
DTSTART;TZID=UTC-3:20190615T190000
DTEND;TZID=UTC-3:20190615T213000
DTSTAMP:20260424T145517
CREATED:20190610T152046Z
LAST-MODIFIED:20190610T152046Z
UID:59972-1560625200-1560634200@www.godoycruz.sisargentina.com
SUMMARY:6º Semana de las Letras
DESCRIPTION:[vc_row][vc_column width=»1/2″][vc_column_text]19:00. Presentación de libros de la Editorial Tinta de Luz (Godoy Cruz): \n“Herencias ancestrales invisibles”\, de Alberto Luis Martín. \n“El Reino de Fairiel” (Universos paralelos) y “El Reino de Fairiel II” (La rebelión de las sirenas)\, de Evelyn Díaz Scifo.[/vc_column_text][/vc_column][vc_column width=»1/2″][vc_single_image image=»59973″ img_size=»full»][/vc_column][/vc_row][vc_row][vc_column width=»1/2″][vc_column_text]21:30. Obra de teatro: “Viejas pánico”\, con la actuación de Alicia Casares y Laura Bagnato. \nGuion\, dirección y puesta en escena: Luis Sampedro.[/vc_column_text][/vc_column][vc_column width=»1/2″][vc_single_image image=»59974″ img_size=»full»][/vc_column][/vc_row] \n
URL:https://www.godoycruz.sisargentina.com/evento/6o-semana-las-letras-2/
LOCATION:Tomba 54\, Godoy Cruz\, Mendoza\, 5501\, Argentina
ATTACH;FMTTYPE=image/jpeg:https://www.godoycruz.sisargentina.com/wp-content/uploads/2019/06/WhatsApp-Image-2019-06-07-at-11.51.26.jpeg
END:VEVENT
END:VCALENDAR