BEGIN:VCALENDAR
VERSION:2.0
PRODID:-//Godoy Cruz - ECPv4.5.8.1//NONSGML v1.0//EN
CALSCALE:GREGORIAN
METHOD:PUBLISH
X-WR-CALNAME:Godoy Cruz
X-ORIGINAL-URL:https://www.godoycruz.sisargentina.com
X-WR-CALDESC:Events for Godoy Cruz
BEGIN:VEVENT
DTSTART;TZID=UTC-3:20190606T110000
DTEND;TZID=UTC-3:20190606T110000
DTSTAMP:20260424T151132
CREATED:20190530T153842Z
LAST-MODIFIED:20190530T153842Z
UID:59674-1559818800-1559818800@www.godoycruz.sisargentina.com
SUMMARY:5º Festival de Teatro para Niños y Niñas Leru leru (función especial)
DESCRIPTION:[vc_row][vc_column][vc_column_text]Funciones de extensión. \nHorarios: 11:00 y 14:00. \nObra: “Clásicos del Circo”\, de Porotita y Tatan.[/vc_column_text][/vc_column][/vc_row][vc_row][vc_column][vc_single_image image=»59675″ img_size=»full»][/vc_column][/vc_row] \n
URL:https://www.godoycruz.sisargentina.com/evento/5o-festival-teatro-ninos-ninas-leru-leru-funcion-especial-2/
ATTACH;FMTTYPE=image/jpeg:https://www.godoycruz.sisargentina.com/wp-content/uploads/2019/05/WhatsApp-Image-2019-05-28-at-12.55.34.jpeg
END:VEVENT
END:VCALENDAR