BEGIN:VCALENDAR
VERSION:2.0
PRODID:-//Godoy Cruz - ECPv4.5.8.1//NONSGML v1.0//EN
CALSCALE:GREGORIAN
METHOD:PUBLISH
X-WR-CALNAME:Godoy Cruz
X-ORIGINAL-URL:https://www.godoycruz.sisargentina.com
X-WR-CALDESC:Events for Godoy Cruz
BEGIN:VEVENT
DTSTART;TZID=UTC-3:20190606T100000
DTEND;TZID=UTC-3:20190606T100000
DTSTAMP:20260424T133501
CREATED:20190530T151938Z
LAST-MODIFIED:20190530T151938Z
UID:59664-1559815200-1559815200@www.godoycruz.sisargentina.com
SUMMARY:5º Festival de Teatro para Niños y Niñas Leru leru (agotado)
DESCRIPTION:[vc_row][vc_column][vc_column_text]Funciones para escuelas: 10:00 y 15:00. (Agotada). \nCentro Cultural La Colombina (Balcarce 220\, Godoy Cruz). \nObra: “Los tesoros de Pipo”. Compañía Giraluna Títeres. \nEntrada general: $30.[/vc_column_text][/vc_column][/vc_row][vc_row][vc_column][vc_single_image image=»59665″ img_size=»full»][/vc_column][/vc_row] \n
URL:https://www.godoycruz.sisargentina.com/evento/5o-festival-teatro-ninos-ninas-leru-leru-agotado-3/
ATTACH;FMTTYPE=image/jpeg:https://www.godoycruz.sisargentina.com/wp-content/uploads/2019/05/WhatsApp-Image-2019-05-28-at-12.55.16.jpeg
END:VEVENT
END:VCALENDAR