BEGIN:VCALENDAR
VERSION:2.0
PRODID:-//Godoy Cruz - ECPv4.5.8.1//NONSGML v1.0//EN
CALSCALE:GREGORIAN
METHOD:PUBLISH
X-WR-CALNAME:Godoy Cruz
X-ORIGINAL-URL:https://www.godoycruz.sisargentina.com
X-WR-CALDESC:Events for Godoy Cruz
BEGIN:VEVENT
DTSTART;TZID=UTC-3:20221202T210000
DTEND;TZID=UTC-3:20221202T210000
DTSTAMP:20260421T191318
CREATED:20221122T141147Z
LAST-MODIFIED:20221122T141147Z
UID:95565-1670014800-1670014800@www.godoycruz.sisargentina.com
SUMMARY:50 años de la Nueva Trova Cubana
DESCRIPTION:[vc_row][vc_column][vc_column_text]Concierto del músico cubano radicado en Mendoza Rafael Quevedo Domínguez. \nEl integrante de la Nueva Trova Cubana brindará su poesía y mejores canciones. \nSubirá al escenario en compañía de los músicos Mariano Moreno (piano); Gabriel Narváez (bajo) y Andrés Fernández (percusión).[/vc_column_text][/vc_column][/vc_row][vc_row][vc_column][vc_single_image image=»95566″ img_size=»full»][/vc_column][/vc_row] \n
URL:https://www.godoycruz.sisargentina.com/evento/50-anos-la-nueva-trova-cubana/
LOCATION:Tomba 54\, Godoy Cruz\, Mendoza\, 5501\, Argentina
ATTACH;FMTTYPE=image/jpeg:https://www.godoycruz.sisargentina.com/wp-content/uploads/2022/11/WhatsApp-Image-2022-11-17-at-14.13.43.jpeg
END:VEVENT
END:VCALENDAR