BEGIN:VCALENDAR
VERSION:2.0
PRODID:-//Godoy Cruz - ECPv4.5.8.1//NONSGML v1.0//EN
CALSCALE:GREGORIAN
METHOD:PUBLISH
X-WR-CALNAME:Godoy Cruz
X-ORIGINAL-URL:https://www.godoycruz.sisargentina.com
X-WR-CALDESC:Events for Godoy Cruz
BEGIN:VEVENT
DTSTART;TZID=UTC-3:20180608T100000
DTEND;TZID=UTC-3:20180608T100000
DTSTAMP:20260425T152730
CREATED:20180529T183337Z
LAST-MODIFIED:20180529T183337Z
UID:49803-1528452000-1528452000@www.godoycruz.sisargentina.com
SUMMARY:4° Edición Leru Leru Festival de Teatro para Niños y Niñas
DESCRIPTION:[vc_row][vc_column][vc_column_text]Obra: “Chocolate. Una historia en cuatro patas” (Entradas agotadas). \nTamarí Teatro. Función para escuelas. \nActúan: Nuria Atencio\, Paloma Arsac\,  Marcos Muñoz. Manipuladora: Rocio Manzano. Dirección General: Ruth Reinoso. \nCentro Cultural La Colombina (Balcarce 220\, Godoy Cruz). \nDos funciones: 10:00 y 15:00[/vc_column_text][/vc_column][/vc_row][vc_row][vc_column][vc_single_image image=»49804″ img_size=»full»][/vc_column][/vc_row][vc_row][vc_column][vc_gmaps link=»#E-8_JTNDaWZyYW1lJTIwc3JjJTNEJTIyaHR0cHMlM0ElMkYlMkZ3d3cuZ29vZ2xlLmNvbSUyRm1hcHMlMkZlbWJlZCUzRnBiJTNEJTIxMW0xOCUyMTFtMTIlMjExbTMlMjExZDMzNDkuMDcyNTAwODY2NjI3JTIxMmQtNjguODQ0MzU4MTg1MzEzNzIlMjEzZC0zMi45MjI2ODI2NzgwMDQ1MzQlMjEybTMlMjExZjAlMjEyZjAlMjEzZjAlMjEzbTIlMjExaTEwMjQlMjEyaTc2OCUyMTRmMTMuMSUyMTNtMyUyMTFtMiUyMTFzMHg5NjdlMDk2MjM3ZmU4Y2Y5JTI1M0EweGYyMzc3ZjMwZmQ1NjliYTklMjEyc0xhJTJCQ29sb21iaW5hJTIxNWUwJTIxM20yJTIxMXNlcy00MTklMjEyc2FyJTIxNHYxNTI3NjE4Njk2NTQ0JTIyJTIwd2lkdGglM0QlMjI0MDAlMjIlMjBoZWlnaHQlM0QlMjIzMDAlMjIlMjBmcmFtZWJvcmRlciUzRCUyMjAlMjIlMjBzdHlsZSUzRCUyMmJvcmRlciUzQTAlMjIlMjBhbGxvd2Z1bGxzY3JlZW4lM0UlM0MlMkZpZnJhbWUlM0U=»][/vc_column][/vc_row] \n
URL:https://www.godoycruz.sisargentina.com/evento/4-edicion-leru-leru-festival-teatro-ninos-ninas-5/
ATTACH;FMTTYPE=image/png:https://www.godoycruz.sisargentina.com/wp-content/uploads/2018/05/chocolate-10.png
END:VEVENT
END:VCALENDAR