BEGIN:VCALENDAR
VERSION:2.0
PRODID:-//Godoy Cruz - ECPv4.5.8.1//NONSGML v1.0//EN
CALSCALE:GREGORIAN
METHOD:PUBLISH
X-WR-CALNAME:Godoy Cruz
X-ORIGINAL-URL:https://www.godoycruz.sisargentina.com
X-WR-CALDESC:Events for Godoy Cruz
BEGIN:VEVENT
DTSTART;TZID=UTC-3:20180607T100000
DTEND;TZID=UTC-3:20180607T100000
DTSTAMP:20260425T140928
CREATED:20180529T182402Z
LAST-MODIFIED:20180529T182402Z
UID:49800-1528365600-1528365600@www.godoycruz.sisargentina.com
SUMMARY:4° Edición Leru Leru Festival de Teatro para Niños y Niñas
DESCRIPTION:[vc_row][vc_column][vc_column_text]Obra: “El mundo en mí” (Entradas agotadas). \nMarabunta Teatro. Función para escuelas. \nActúan: Gabriela Garro y Maria del Valle Pereyra. Músicos actores: Pablo Mestre y Nicolás Gorordo. Producción: Emanuel Gauna. Texto y Dirección: Gabriela Garro. \nDos funciones: 10:00 y 15:00[/vc_column_text][/vc_column][/vc_row][vc_row][vc_column][vc_single_image image=»49801″ img_size=»full»][/vc_column][/vc_row] \n
URL:https://www.godoycruz.sisargentina.com/evento/4-edicion-leru-leru-festival-teatro-ninos-ninas-4/
LOCATION:Colón 27\, Godoy Cruz\, Mendoza\, 5501\, Argentina
ATTACH;FMTTYPE=image/png:https://www.godoycruz.sisargentina.com/wp-content/uploads/2018/05/mundo-en-mi-10.png
END:VEVENT
END:VCALENDAR