BEGIN:VCALENDAR
VERSION:2.0
PRODID:-//Godoy Cruz - ECPv4.5.8.1//NONSGML v1.0//EN
CALSCALE:GREGORIAN
METHOD:PUBLISH
X-WR-CALNAME:Godoy Cruz
X-ORIGINAL-URL:https://www.godoycruz.sisargentina.com
X-WR-CALDESC:Events for Godoy Cruz
BEGIN:VEVENT
DTSTART;TZID=UTC-3:20181107T210000
DTEND;TZID=UTC-3:20181107T210000
DTSTAMP:20260425T024626
CREATED:20181106T171000Z
LAST-MODIFIED:20181106T171000Z
UID:54677-1541624400-1541624400@www.godoycruz.sisargentina.com
SUMMARY:30º Aniversario de Cantapueblo\, La Fiesta Coral de América
DESCRIPTION:[vc_row][vc_column][vc_column_text]Concierto de Apertura. \nDirección artística y puesta en escena: Federico Ortega. \nAsistencia de Dirección: Ariel Francisco Prado. \nArtistas: Coro Amicana (Dir. Mónica Pacheco); Coro Esloveno (Dir. Diego Bosquet); Los Hombres Sensibles (Dir. Alfonso Giunta); Arte Vocal (Dir. Mónica Pacheco); Murga El Remolino (Dir. Quique Öesch) y Coro Cantapueblo (Dir. Nancy Ciccioli). Actores: Jimena Zemiz\,  Ernesto Suárez. \nCine Teatro Plaza. 21:00. Entrada gratuita (limitada a la capacidad de la sala).[/vc_column_text][/vc_column][/vc_row][vc_row][vc_column][vc_single_image image=»54678″ img_size=»full»][/vc_column][/vc_row] \n
URL:https://www.godoycruz.sisargentina.com/evento/30o-aniversario-cantapueblo-la-fiesta-coral-america/
LOCATION:Colón 27\, Godoy Cruz\, Mendoza\, 5501\, Argentina
ATTACH;FMTTYPE=image/jpeg:https://www.godoycruz.sisargentina.com/wp-content/uploads/2018/11/MIÉRCOLES-7-TEATRO-PLAZA.jpg
END:VEVENT
END:VCALENDAR